BEGIN:VCALENDAR
VERSION:2.0
PRODID:-//DJ Monica X - ECPv6.15.17.1//NONSGML v1.0//EN
CALSCALE:GREGORIAN
METHOD:PUBLISH
X-ORIGINAL-URL:https://djmonicax.com
X-WR-CALDESC:Eventos para DJ Monica X
REFRESH-INTERVAL;VALUE=DURATION:PT1H
X-Robots-Tag:noindex
X-PUBLISHED-TTL:PT1H
BEGIN:VTIMEZONE
TZID:UTC
BEGIN:STANDARD
TZOFFSETFROM:+0000
TZOFFSETTO:+0000
TZNAME:UTC
DTSTART:20220101T000000
END:STANDARD
END:VTIMEZONE
BEGIN:VEVENT
DTSTART;VALUE=DATE:20231125
DTEND;VALUE=DATE:20231126
DTSTAMP:20260419T150234
CREATED:20240105T134125Z
LAST-MODIFIED:20240105T134141Z
UID:9516-1700870400-1700956799@djmonicax.com
SUMMARY:Remember Paradise Festival
DESCRIPTION:25 Noviembre  \nRemember Paradise Festival\, Millennium – Sils (Gerona) \nNoche
URL:https://djmonicax.com/event/remember-paradise-festival-2/
LOCATION:Remember Paradise Festival\, Carretera Les Mallorquines Nord\, Girona\, 17410\, España
ATTACH;FMTTYPE=image/jpeg:https://djmonicax.com/wp-content/uploads/2024/01/vista-trasera-fans-despreocupados-divirtiendose-festival-musica-frente-al-escenario-iluminado-noche-scaled.jpg
END:VEVENT
BEGIN:VEVENT
DTSTART;VALUE=DATE:20231111
DTEND;VALUE=DATE:20231112
DTSTAMP:20260419T150234
CREATED:20240105T133544Z
LAST-MODIFIED:20240105T140952Z
UID:9517-1699660800-1699747199@djmonicax.com
SUMMARY:Remember Paradise Festival
DESCRIPTION:11 Noviembre  \nRemember Paradise Festival\, BEC Arena (Bilbao) \nMediodía
URL:https://djmonicax.com/event/remember-paradise-festival/
LOCATION:Remember Paradise Festival\, Carretera Les Mallorquines Nord\, Girona\, 17410\, España
ATTACH;FMTTYPE=image/jpeg:https://djmonicax.com/wp-content/uploads/2024/01/mejor-espectaculo-escenario-scaled.jpg
END:VEVENT
BEGIN:VEVENT
DTSTART;VALUE=DATE:20231028
DTEND;VALUE=DATE:20231029
DTSTAMP:20260419T150234
CREATED:20240105T132802Z
LAST-MODIFIED:20240105T132819Z
UID:9512-1698451200-1698537599@djmonicax.com
SUMMARY:The Best Remember Festival
DESCRIPTION:28 Octubre \nThe Best Remember Festival\, Ontinyent (Valencia) \nNoche
URL:https://djmonicax.com/event/the-best-remember-festival/
LOCATION:The Best Remember Festival\, Carrer Vicent Lluís Montés Penadés\, Ontinyent\, Valencia\, 46870\, España
ATTACH;FMTTYPE=image/jpeg:https://djmonicax.com/wp-content/uploads/2024/01/personas-concierto-textura-superposicion-humo-scaled.jpg
END:VEVENT
BEGIN:VEVENT
DTSTART;VALUE=DATE:20231021
DTEND;VALUE=DATE:20231022
DTSTAMP:20260419T150234
CREATED:20240105T132404Z
LAST-MODIFIED:20240105T135540Z
UID:9508-1697846400-1697932799@djmonicax.com
SUMMARY:Jango Quart
DESCRIPTION:21 Octubre  \nJango Quart\, Quart de Poblet (Valencia) \nNoche
URL:https://djmonicax.com/event/jango-quart/
LOCATION:Jango Quart\, C. Escultor Damiá Forment\, 6\, Quart de Pblet\, Valencia\, 46930
ATTACH;FMTTYPE=image/jpeg:https://djmonicax.com/wp-content/uploads/2024/01/gente-fiesta-tono-blanco-negro-scaled.jpg
END:VEVENT
BEGIN:VEVENT
DTSTART;VALUE=DATE:20231008
DTEND;VALUE=DATE:20231009
DTSTAMP:20260419T150234
CREATED:20240105T132025Z
LAST-MODIFIED:20240105T132025Z
UID:9504-1696723200-1696809599@djmonicax.com
SUMMARY:Remember Fest
DESCRIPTION:8 Octubre  \nRemember Fest\, Oliva (Valencia) \nTarde
URL:https://djmonicax.com/event/remember-fest/
LOCATION:Oliva\, Oliva\, Comunidad Valenciana\, 46780\, España
ATTACH;FMTTYPE=image/jpeg:https://djmonicax.com/wp-content/uploads/2024/01/gran-grupo-fans-brazos-levantados-divirtiendose-concierto-musica-noche-scaled.jpg
END:VEVENT
BEGIN:VEVENT
DTSTART;VALUE=DATE:20231007
DTEND;VALUE=DATE:20231009
DTSTAMP:20260419T150234
CREATED:20240105T131454Z
LAST-MODIFIED:20240105T131454Z
UID:9500-1696636800-1696809599@djmonicax.com
SUMMARY:Fiestas Patronales
DESCRIPTION:7 Octubre  \nFiestas Patronales Alfafar (Valencia) \nNoche
URL:https://djmonicax.com/event/fiestas-patronales/
LOCATION:Alfafar\, Plaça de l'Ajuntament\, 1\, Alfafar\, Valencia\, 46910\, España
ATTACH;FMTTYPE=image/jpeg:https://djmonicax.com/wp-content/uploads/2024/01/amigos-tintinean-vasos-bebida-bar-moderno-scaled.jpg
END:VEVENT
BEGIN:VEVENT
DTSTART;VALUE=DATE:20231007
DTEND;VALUE=DATE:20231008
DTSTAMP:20260419T150234
CREATED:20240105T130625Z
LAST-MODIFIED:20240105T131519Z
UID:9495-1696636800-1696723199@djmonicax.com
SUMMARY:Akuarela
DESCRIPTION:7 Octubre \nAkuarela Playa\, Valencia \nTarde
URL:https://djmonicax.com/event/akuarela/
LOCATION:Akuarela\, C/ d'Eugènia Viñes\, 152\, Poblats Marítims\, Valencia\, 46011\, España
ATTACH;FMTTYPE=image/jpeg:https://djmonicax.com/wp-content/uploads/2024/01/amigos-vista-frontal-deliciosa-kombucha-al-aire-libre.jpg
END:VEVENT
END:VCALENDAR